BEGIN:VCALENDAR
VERSION:2.0
PRODID:-//Philae Shriners - ECPv6.15.20//NONSGML v1.0//EN
CALSCALE:GREGORIAN
METHOD:PUBLISH
X-WR-CALNAME:Philae Shriners
X-ORIGINAL-URL:https://philaeshriners.ca
X-WR-CALDESC:Events for Philae Shriners
REFRESH-INTERVAL;VALUE=DURATION:PT1H
X-Robots-Tag:noindex
X-PUBLISHED-TTL:PT1H
BEGIN:VTIMEZONE
TZID:America/Halifax
BEGIN:DAYLIGHT
TZOFFSETFROM:-0400
TZOFFSETTO:-0300
TZNAME:ADT
DTSTART:20240310T060000
END:DAYLIGHT
BEGIN:STANDARD
TZOFFSETFROM:-0300
TZOFFSETTO:-0400
TZNAME:AST
DTSTART:20241103T050000
END:STANDARD
BEGIN:DAYLIGHT
TZOFFSETFROM:-0400
TZOFFSETTO:-0300
TZNAME:ADT
DTSTART:20250309T060000
END:DAYLIGHT
BEGIN:STANDARD
TZOFFSETFROM:-0300
TZOFFSETTO:-0400
TZNAME:AST
DTSTART:20251102T050000
END:STANDARD
BEGIN:DAYLIGHT
TZOFFSETFROM:-0400
TZOFFSETTO:-0300
TZNAME:ADT
DTSTART:20260308T060000
END:DAYLIGHT
BEGIN:STANDARD
TZOFFSETFROM:-0300
TZOFFSETTO:-0400
TZNAME:AST
DTSTART:20261101T050000
END:STANDARD
END:VTIMEZONE
BEGIN:VEVENT
DTSTART;TZID=America/Halifax:20250803T140000
DTEND;TZID=America/Halifax:20250803T160000
DTSTAMP:20260423T205624
CREATED:20250520T020043Z
LAST-MODIFIED:20250520T020043Z
UID:4436-1754229600-1754236800@philaeshriners.ca
SUMMARY:Bridge Walk\, Natal Day Weekend
DESCRIPTION:MacDonald Bridge Annual Bridge Walk \nAmong other participants\, Shriners plan on being there with Mini Cars\, Clowns and LOTS of balloon animals. \n 
URL:https://philaeshriners.ca/event/bridge-walk-natal-day-weekend/
LOCATION:MacDonald Bridge\, Macdonald Bridge\, Dartmouth\, NS\, Canada
END:VEVENT
BEGIN:VEVENT
DTSTART;TZID=America/Halifax:20250804T100000
DTEND;TZID=America/Halifax:20250804T120000
DTSTAMP:20260423T205624
CREATED:20250520T014123Z
LAST-MODIFIED:20250520T014313Z
UID:4430-1754301600-1754308800@philaeshriners.ca
SUMMARY:Natal Day Parade
DESCRIPTION:Annual Natal Day Parade \n  \nDetails TBA
URL:https://philaeshriners.ca/event/natal-day-parade/
LOCATION:Dartmouth\, Dartmouth\, NS\, Canada
END:VEVENT
BEGIN:VEVENT
DTSTART;TZID=America/Halifax:20250814T190000
DTEND;TZID=America/Halifax:20250814T220000
DTSTAMP:20260423T205624
CREATED:20250703T182523Z
LAST-MODIFIED:20250703T182523Z
UID:4776-1755198000-1755208800@philaeshriners.ca
SUMMARY:Philae Shriners Stated Meeting and Ceremonial
DESCRIPTION:A stated meeting and ceremonial for up to 5 candidates will be held on Thursday August 14th at the Lodge Hall in Charlottetown commencing at 7pm followed by a mussel boil up and social.
URL:https://philaeshriners.ca/event/philae-shriners-stated-meeting-and-ceremonial/
LOCATION:Lodge Hall\, charlottetown\, 204 Hillsbourough Street\, Charlottetown\, Prince Edward Island\, Canada
END:VEVENT
BEGIN:VEVENT
DTSTART;TZID=America/Halifax:20250815T100000
DTEND;TZID=America/Halifax:20250815T120000
DTSTAMP:20260423T205624
CREATED:20250703T183041Z
LAST-MODIFIED:20250703T183059Z
UID:4779-1755252000-1755259200@philaeshriners.ca
SUMMARY:Gold Cup Parade and social after
DESCRIPTION:On Friday; The Gold Cup Parade (an estimated 60\,000 onlookers in 2024) steps off on Friday morning at 10.00am (form up 7:30am to 9:00am on Colonel Gray Dr.) followed by a BBQ / Pizza Social back at the Lodge Hall upon completion of the parade.
URL:https://philaeshriners.ca/event/gold-cup-parade-social-after/
LOCATION:Charlottetown\, Prince Edward Island\, Charlottetown\, Prince Edward Island\, Canada
END:VEVENT
BEGIN:VEVENT
DTSTART;TZID=America/Halifax:20250816T073000
DTEND;TZID=America/Halifax:20250816T100000
DTSTAMP:20260423T205624
CREATED:20250703T183829Z
LAST-MODIFIED:20250703T183829Z
UID:4783-1755329400-1755338400@philaeshriners.ca
SUMMARY:Red Oak Shrine Club Annual Pancake breaksfast
DESCRIPTION:Red Oak Shrine Club will be holding their annual pancake breakfast fundraiser at the Kensington Legion 7:30am to 10:00am ($10.00pp at the door)
URL:https://philaeshriners.ca/event/red-oak-shrine-club-annual-pancake-breaksfast/
LOCATION:Kensington Legion\, 30 Garden Drive\, Kensington\, Prince Edward Island\, C0B 1M0\, Canada
END:VEVENT
BEGIN:VEVENT
DTSTART;TZID=America/Halifax:20250816T130000
DTEND;TZID=America/Halifax:20250816T170000
DTSTAMP:20260423T205624
CREATED:20250703T184355Z
LAST-MODIFIED:20250703T184355Z
UID:4787-1755349200-1755363600@philaeshriners.ca
SUMMARY:Harvest Festival Parade
DESCRIPTION:Harvest Festival Parade with a step off of 2:00pm. (Form up Queen Elizabeth Elementary School at 1:00pm) The Legion will host a mussel boil up at their facility following the Parade.
URL:https://philaeshriners.ca/event/harvest-festival-parade/
LOCATION:Queen Elizabeth Elementary School\, 2 Saunders Lane\, Kensington\, Prince Edward Island\, C0B 1M0\, Canada
END:VEVENT
BEGIN:VEVENT
DTSTART;TZID=America/Halifax:20250829T100000
DTEND;TZID=America/Halifax:20250831T190000
DTSTAMP:20260423T205624
CREATED:20250802T232534Z
LAST-MODIFIED:20250802T232534Z
UID:4817-1756461600-1756666800@philaeshriners.ca
SUMMARY:Wharf Rat Rally\, Digby\, Nova Scotia
DESCRIPTION:Philae Shriners will be on hand selling our Classic Car Raffle tickets on the ’64 Thunderbird.
URL:https://philaeshriners.ca/event/wharf-rat-rally-digby-nova-scotia/
LOCATION:Nova Scotia
END:VEVENT
END:VCALENDAR