BEGIN:VCALENDAR
VERSION:2.0
PRODID:-//Philae Shriners - ECPv6.15.20//NONSGML v1.0//EN
CALSCALE:GREGORIAN
METHOD:PUBLISH
X-ORIGINAL-URL:https://philaeshriners.ca
X-WR-CALDESC:Events for Philae Shriners
REFRESH-INTERVAL;VALUE=DURATION:PT1H
X-Robots-Tag:noindex
X-PUBLISHED-TTL:PT1H
BEGIN:VTIMEZONE
TZID:America/Halifax
BEGIN:DAYLIGHT
TZOFFSETFROM:-0400
TZOFFSETTO:-0300
TZNAME:ADT
DTSTART:20240310T060000
END:DAYLIGHT
BEGIN:STANDARD
TZOFFSETFROM:-0300
TZOFFSETTO:-0400
TZNAME:AST
DTSTART:20241103T050000
END:STANDARD
BEGIN:DAYLIGHT
TZOFFSETFROM:-0400
TZOFFSETTO:-0300
TZNAME:ADT
DTSTART:20250309T060000
END:DAYLIGHT
BEGIN:STANDARD
TZOFFSETFROM:-0300
TZOFFSETTO:-0400
TZNAME:AST
DTSTART:20251102T050000
END:STANDARD
BEGIN:DAYLIGHT
TZOFFSETFROM:-0400
TZOFFSETTO:-0300
TZNAME:ADT
DTSTART:20260308T060000
END:DAYLIGHT
BEGIN:STANDARD
TZOFFSETFROM:-0300
TZOFFSETTO:-0400
TZNAME:AST
DTSTART:20261101T050000
END:STANDARD
END:VTIMEZONE
BEGIN:VEVENT
DTSTART;VALUE=DATE:20250925
DTEND;VALUE=DATE:20250929
DTSTAMP:20260423T210018
CREATED:20250520T135118Z
LAST-MODIFIED:20250520T135118Z
UID:4443-1758758400-1759103999@philaeshriners.ca
SUMMARY:Northeast Shrine Association Fall Field Days
DESCRIPTION:2025 is the year Philae Shriners host Temples from Eastern Canada and New England states.  Shriners will gather together in Summerside\, Prince Edward Island.  In addition to the NSA Annual General Meeting\, Philae will be hosting Unit competitions\, a marketplace\, a Ladies Luncheon\, Shrine Olympics\, Spud Degree and a closing night banquet/kitchen party.  On Saturday\, Temples will parade with their specialty units through Summerside\, a parade you won’t want to miss.  Everything from Clowns to Mini cars to Snowmobiles?!  Who knows what oddity the Shriners will drive in a parade? \n 
URL:https://philaeshriners.ca/event/northeast-shrine-association-fall-field-days/
LOCATION:Nova Scotia
END:VEVENT
END:VCALENDAR