BEGIN:VCALENDAR
VERSION:2.0
PRODID:-//Philae Shriners - ECPv6.15.20//NONSGML v1.0//EN
CALSCALE:GREGORIAN
METHOD:PUBLISH
X-WR-CALNAME:Philae Shriners
X-ORIGINAL-URL:https://philaeshriners.ca
X-WR-CALDESC:Events for Philae Shriners
REFRESH-INTERVAL;VALUE=DURATION:PT1H
X-Robots-Tag:noindex
X-PUBLISHED-TTL:PT1H
BEGIN:VTIMEZONE
TZID:America/Halifax
BEGIN:DAYLIGHT
TZOFFSETFROM:-0400
TZOFFSETTO:-0300
TZNAME:ADT
DTSTART:20240310T060000
END:DAYLIGHT
BEGIN:STANDARD
TZOFFSETFROM:-0300
TZOFFSETTO:-0400
TZNAME:AST
DTSTART:20241103T050000
END:STANDARD
BEGIN:DAYLIGHT
TZOFFSETFROM:-0400
TZOFFSETTO:-0300
TZNAME:ADT
DTSTART:20250309T060000
END:DAYLIGHT
BEGIN:STANDARD
TZOFFSETFROM:-0300
TZOFFSETTO:-0400
TZNAME:AST
DTSTART:20251102T050000
END:STANDARD
BEGIN:DAYLIGHT
TZOFFSETFROM:-0400
TZOFFSETTO:-0300
TZNAME:ADT
DTSTART:20260308T060000
END:DAYLIGHT
BEGIN:STANDARD
TZOFFSETFROM:-0300
TZOFFSETTO:-0400
TZNAME:AST
DTSTART:20261101T050000
END:STANDARD
END:VTIMEZONE
BEGIN:VEVENT
DTSTART;TZID=America/Halifax:20250829T100000
DTEND;TZID=America/Halifax:20250831T190000
DTSTAMP:20260423T205654
CREATED:20250802T232534Z
LAST-MODIFIED:20250802T232534Z
UID:4817-1756461600-1756666800@philaeshriners.ca
SUMMARY:Wharf Rat Rally\, Digby\, Nova Scotia
DESCRIPTION:Philae Shriners will be on hand selling our Classic Car Raffle tickets on the ’64 Thunderbird.
URL:https://philaeshriners.ca/event/wharf-rat-rally-digby-nova-scotia/
LOCATION:Nova Scotia
END:VEVENT
END:VCALENDAR