BEGIN:VCALENDAR
VERSION:2.0
PRODID:-//Philae Shriners - ECPv6.15.20//NONSGML v1.0//EN
CALSCALE:GREGORIAN
METHOD:PUBLISH
X-WR-CALNAME:Philae Shriners
X-ORIGINAL-URL:https://philaeshriners.ca
X-WR-CALDESC:Events for Philae Shriners
REFRESH-INTERVAL;VALUE=DURATION:PT1H
X-Robots-Tag:noindex
X-PUBLISHED-TTL:PT1H
BEGIN:VTIMEZONE
TZID:America/Halifax
BEGIN:DAYLIGHT
TZOFFSETFROM:-0400
TZOFFSETTO:-0300
TZNAME:ADT
DTSTART:20240310T060000
END:DAYLIGHT
BEGIN:STANDARD
TZOFFSETFROM:-0300
TZOFFSETTO:-0400
TZNAME:AST
DTSTART:20241103T050000
END:STANDARD
BEGIN:DAYLIGHT
TZOFFSETFROM:-0400
TZOFFSETTO:-0300
TZNAME:ADT
DTSTART:20250309T060000
END:DAYLIGHT
BEGIN:STANDARD
TZOFFSETFROM:-0300
TZOFFSETTO:-0400
TZNAME:AST
DTSTART:20251102T050000
END:STANDARD
BEGIN:DAYLIGHT
TZOFFSETFROM:-0400
TZOFFSETTO:-0300
TZNAME:ADT
DTSTART:20260308T060000
END:DAYLIGHT
BEGIN:STANDARD
TZOFFSETFROM:-0300
TZOFFSETTO:-0400
TZNAME:AST
DTSTART:20261101T050000
END:STANDARD
END:VTIMEZONE
BEGIN:VEVENT
DTSTART;TZID=America/Halifax:20250816T073000
DTEND;TZID=America/Halifax:20250816T100000
DTSTAMP:20260423T222336
CREATED:20250703T183829Z
LAST-MODIFIED:20250703T183829Z
UID:4783-1755329400-1755338400@philaeshriners.ca
SUMMARY:Red Oak Shrine Club Annual Pancake breaksfast
DESCRIPTION:Red Oak Shrine Club will be holding their annual pancake breakfast fundraiser at the Kensington Legion 7:30am to 10:00am ($10.00pp at the door)
URL:https://philaeshriners.ca/event/red-oak-shrine-club-annual-pancake-breaksfast/
LOCATION:Kensington Legion\, 30 Garden Drive\, Kensington\, Prince Edward Island\, C0B 1M0\, Canada
END:VEVENT
BEGIN:VEVENT
DTSTART;TZID=America/Halifax:20250816T130000
DTEND;TZID=America/Halifax:20250816T170000
DTSTAMP:20260423T222336
CREATED:20250703T184355Z
LAST-MODIFIED:20250703T184355Z
UID:4787-1755349200-1755363600@philaeshriners.ca
SUMMARY:Harvest Festival Parade
DESCRIPTION:Harvest Festival Parade with a step off of 2:00pm. (Form up Queen Elizabeth Elementary School at 1:00pm) The Legion will host a mussel boil up at their facility following the Parade.
URL:https://philaeshriners.ca/event/harvest-festival-parade/
LOCATION:Queen Elizabeth Elementary School\, 2 Saunders Lane\, Kensington\, Prince Edward Island\, C0B 1M0\, Canada
END:VEVENT
END:VCALENDAR