BEGIN:VCALENDAR
VERSION:2.0
PRODID:-//Philae Shriners - ECPv6.15.20//NONSGML v1.0//EN
CALSCALE:GREGORIAN
METHOD:PUBLISH
X-ORIGINAL-URL:https://philaeshriners.ca
X-WR-CALDESC:Events for Philae Shriners
REFRESH-INTERVAL;VALUE=DURATION:PT1H
X-Robots-Tag:noindex
X-PUBLISHED-TTL:PT1H
BEGIN:VTIMEZONE
TZID:America/Halifax
BEGIN:DAYLIGHT
TZOFFSETFROM:-0400
TZOFFSETTO:-0300
TZNAME:ADT
DTSTART:20240310T060000
END:DAYLIGHT
BEGIN:STANDARD
TZOFFSETFROM:-0300
TZOFFSETTO:-0400
TZNAME:AST
DTSTART:20241103T050000
END:STANDARD
BEGIN:DAYLIGHT
TZOFFSETFROM:-0400
TZOFFSETTO:-0300
TZNAME:ADT
DTSTART:20250309T060000
END:DAYLIGHT
BEGIN:STANDARD
TZOFFSETFROM:-0300
TZOFFSETTO:-0400
TZNAME:AST
DTSTART:20251102T050000
END:STANDARD
BEGIN:DAYLIGHT
TZOFFSETFROM:-0400
TZOFFSETTO:-0300
TZNAME:ADT
DTSTART:20260308T060000
END:DAYLIGHT
BEGIN:STANDARD
TZOFFSETFROM:-0300
TZOFFSETTO:-0400
TZNAME:AST
DTSTART:20261101T050000
END:STANDARD
END:VTIMEZONE
BEGIN:VEVENT
DTSTART;TZID=America/Halifax:20250722T180000
DTEND;TZID=America/Halifax:20250722T190000
DTSTAMP:20260424T053151
CREATED:20250520T013616Z
LAST-MODIFIED:20250520T013616Z
UID:4426-1753207200-1753210800@philaeshriners.ca
SUMMARY:South Shore Exhibition- The Big Ex Parade
DESCRIPTION:The annual parade always kicks off the week on Tuesday at 6 p.m
URL:https://philaeshriners.ca/event/south-shore-exhibition-the-big-ex-parade/
LOCATION:Bridgewater Exhibition\, 50 Exhibition Dr\, Bridgewater\, NS\, Canada
END:VEVENT
END:VCALENDAR